BEGIN:VCALENDAR
VERSION:2.0
PRODID:-//Winchcombe Day Centre - ECPv6.15.15//NONSGML v1.0//EN
CALSCALE:GREGORIAN
METHOD:PUBLISH
X-WR-CALNAME:Winchcombe Day Centre
X-ORIGINAL-URL:https://www.winchcombedaycentre.co.uk
X-WR-CALDESC:Events for Winchcombe Day Centre
REFRESH-INTERVAL;VALUE=DURATION:PT1H
X-Robots-Tag:noindex
X-PUBLISHED-TTL:PT1H
BEGIN:VTIMEZONE
TZID:UTC
BEGIN:STANDARD
TZOFFSETFROM:+0000
TZOFFSETTO:+0000
TZNAME:UTC
DTSTART:20230101T000000
END:STANDARD
END:VTIMEZONE
BEGIN:VEVENT
DTSTART;TZID=UTC:20240605T103000
DTEND;TZID=UTC:20240605T120000
DTSTAMP:20260423T090850
CREATED:20240521T085718Z
LAST-MODIFIED:20240521T085718Z
UID:1147-1717583400-1717588800@www.winchcombedaycentre.co.uk
SUMMARY:Seated Movement with Sadie
DESCRIPTION:
URL:https://www.winchcombedaycentre.co.uk/whats-on/seated-movement-with-sadie-3/
LOCATION:Winchcombe Day Centre\, Langley Road\, Winchcombe\, Gloucestershire\, GL54 5QN\, United Kingdom
CATEGORIES:wdc
END:VEVENT
BEGIN:VEVENT
DTSTART;TZID=UTC:20240605T133000
DTEND;TZID=UTC:20240605T150000
DTSTAMP:20260423T090850
CREATED:20240521T085815Z
LAST-MODIFIED:20240521T085815Z
UID:1149-1717594200-1717599600@www.winchcombedaycentre.co.uk
SUMMARY:All about Wales
DESCRIPTION:
URL:https://www.winchcombedaycentre.co.uk/whats-on/all-about-wales/
LOCATION:Winchcombe Day Centre\, Langley Road\, Winchcombe\, Gloucestershire\, GL54 5QN\, United Kingdom
CATEGORIES:wdc
END:VEVENT
END:VCALENDAR