BEGIN:VCALENDAR
VERSION:2.0
PRODID:-//Winchcombe Day Centre - ECPv6.15.15//NONSGML v1.0//EN
CALSCALE:GREGORIAN
METHOD:PUBLISH
X-ORIGINAL-URL:https://www.winchcombedaycentre.co.uk
X-WR-CALDESC:Events for Winchcombe Day Centre
REFRESH-INTERVAL;VALUE=DURATION:PT1H
X-Robots-Tag:noindex
X-PUBLISHED-TTL:PT1H
BEGIN:VTIMEZONE
TZID:UTC
BEGIN:STANDARD
TZOFFSETFROM:+0000
TZOFFSETTO:+0000
TZNAME:UTC
DTSTART:20230101T000000
END:STANDARD
END:VTIMEZONE
BEGIN:VEVENT
DTSTART;TZID=UTC:20240612T103000
DTEND;TZID=UTC:20240612T120000
DTSTAMP:20260423T104857
CREATED:20240521T090255Z
LAST-MODIFIED:20240521T090255Z
UID:1159-1718188200-1718193600@www.winchcombedaycentre.co.uk
SUMMARY:Word Games with Nicola
DESCRIPTION:
URL:https://www.winchcombedaycentre.co.uk/whats-on/word-games-with-nicola/
LOCATION:Winchcombe Day Centre\, Langley Road\, Winchcombe\, Gloucestershire\, GL54 5QN\, United Kingdom
CATEGORIES:wdc
END:VEVENT
BEGIN:VEVENT
DTSTART;TZID=UTC:20240612T133000
DTEND;TZID=UTC:20240612T150000
DTSTAMP:20260423T104857
CREATED:20240521T091506Z
LAST-MODIFIED:20240521T091506Z
UID:1175-1718199000-1718204400@www.winchcombedaycentre.co.uk
SUMMARY:A biscuit afternoon with Sadie
DESCRIPTION:
URL:https://www.winchcombedaycentre.co.uk/whats-on/a-biscuit-afternoon-with-sadie/
LOCATION:Gloucestershire
CATEGORIES:wdc
END:VEVENT
END:VCALENDAR