BEGIN:VCALENDAR
VERSION:2.0
PRODID:-//Winchcombe Day Centre - ECPv6.15.15//NONSGML v1.0//EN
CALSCALE:GREGORIAN
METHOD:PUBLISH
X-WR-CALNAME:Winchcombe Day Centre
X-ORIGINAL-URL:https://www.winchcombedaycentre.co.uk
X-WR-CALDESC:Events for Winchcombe Day Centre
REFRESH-INTERVAL;VALUE=DURATION:PT1H
X-Robots-Tag:noindex
X-PUBLISHED-TTL:PT1H
BEGIN:VTIMEZONE
TZID:UTC
BEGIN:STANDARD
TZOFFSETFROM:+0000
TZOFFSETTO:+0000
TZNAME:UTC
DTSTART:20230101T000000
END:STANDARD
END:VTIMEZONE
BEGIN:VEVENT
DTSTART;TZID=UTC:20240626T103000
DTEND;TZID=UTC:20240626T120000
DTSTAMP:20260425T102937
CREATED:20240625T182817Z
LAST-MODIFIED:20240625T182817Z
UID:1194-1719397800-1719403200@www.winchcombedaycentre.co.uk
SUMMARY:Summer Fetes
DESCRIPTION:
URL:https://www.winchcombedaycentre.co.uk/whats-on/summer-fetes/
LOCATION:Winchcombe Day Centre\, Langley Road\, Winchcombe\, Gloucestershire\, GL54 5QN\, United Kingdom
CATEGORIES:wdc
END:VEVENT
BEGIN:VEVENT
DTSTART;TZID=UTC:20240626T133000
DTEND;TZID=UTC:20240626T150000
DTSTAMP:20260425T102937
CREATED:20240625T182858Z
LAST-MODIFIED:20240625T182858Z
UID:1196-1719408600-1719414000@www.winchcombedaycentre.co.uk
SUMMARY:Curling with Sadie
DESCRIPTION:
URL:https://www.winchcombedaycentre.co.uk/whats-on/curling-with-sadie/
LOCATION:Winchcombe Day Centre\, Langley Road\, Winchcombe\, Gloucestershire\, GL54 5QN\, United Kingdom
CATEGORIES:wdc
END:VEVENT
END:VCALENDAR