BEGIN:VCALENDAR
VERSION:2.0
PRODID:-//Winchcombe Day Centre - ECPv6.15.15//NONSGML v1.0//EN
CALSCALE:GREGORIAN
METHOD:PUBLISH
X-WR-CALNAME:Winchcombe Day Centre
X-ORIGINAL-URL:https://www.winchcombedaycentre.co.uk
X-WR-CALDESC:Events for Winchcombe Day Centre
REFRESH-INTERVAL;VALUE=DURATION:PT1H
X-Robots-Tag:noindex
X-PUBLISHED-TTL:PT1H
BEGIN:VTIMEZONE
TZID:UTC
BEGIN:STANDARD
TZOFFSETFROM:+0000
TZOFFSETTO:+0000
TZNAME:UTC
DTSTART:20230101T000000
END:STANDARD
END:VTIMEZONE
BEGIN:VEVENT
DTSTART;TZID=UTC:20240725T103000
DTEND;TZID=UTC:20240725T120000
DTSTAMP:20260423T090854
CREATED:20240702T084005Z
LAST-MODIFIED:20240702T084026Z
UID:1244-1721903400-1721908800@www.winchcombedaycentre.co.uk
SUMMARY:Matching Pair & Riddles with Jenny
DESCRIPTION:
URL:https://www.winchcombedaycentre.co.uk/whats-on/matching-pair-riddles-with-jenny/
LOCATION:Winchcombe Day Centre\, Langley Road\, Winchcombe\, Gloucestershire\, GL54 5QN\, United Kingdom
CATEGORIES:wdc
END:VEVENT
BEGIN:VEVENT
DTSTART;TZID=UTC:20240725T133000
DTEND;TZID=UTC:20240725T150000
DTSTAMP:20260423T090854
CREATED:20240702T084118Z
LAST-MODIFIED:20240702T084118Z
UID:1246-1721914200-1721919600@www.winchcombedaycentre.co.uk
SUMMARY:Balloon Parachute
DESCRIPTION:
URL:https://www.winchcombedaycentre.co.uk/whats-on/balloon-parachute/
LOCATION:Winchcombe Day Centre\, Langley Road\, Winchcombe\, Gloucestershire\, GL54 5QN\, United Kingdom
CATEGORIES:wdc
END:VEVENT
END:VCALENDAR