BEGIN:VCALENDAR
VERSION:2.0
PRODID:-//Winchcombe Day Centre - ECPv6.15.15//NONSGML v1.0//EN
CALSCALE:GREGORIAN
METHOD:PUBLISH
X-WR-CALNAME:Winchcombe Day Centre
X-ORIGINAL-URL:https://www.winchcombedaycentre.co.uk
X-WR-CALDESC:Events for Winchcombe Day Centre
REFRESH-INTERVAL;VALUE=DURATION:PT1H
X-Robots-Tag:noindex
X-PUBLISHED-TTL:PT1H
BEGIN:VTIMEZONE
TZID:UTC
BEGIN:STANDARD
TZOFFSETFROM:+0000
TZOFFSETTO:+0000
TZNAME:UTC
DTSTART:20220101T000000
END:STANDARD
END:VTIMEZONE
BEGIN:VEVENT
DTSTART;TZID=UTC:20230928T133000
DTEND;TZID=UTC:20230928T150000
DTSTAMP:20260421T084042
CREATED:20230926T113748Z
LAST-MODIFIED:20230926T113821Z
UID:705-1695907800-1695913200@www.winchcombedaycentre.co.uk
SUMMARY:Word Trail
DESCRIPTION:
URL:https://www.winchcombedaycentre.co.uk/whats-on/bean-bag-challenge-2/
LOCATION:Winchcombe Day Centre\, Langley Road\, Winchcombe\, Gloucestershire\, GL54 5QN\, United Kingdom
CATEGORIES:wdc
END:VEVENT
BEGIN:VEVENT
DTSTART;TZID=UTC:20230928T103000
DTEND;TZID=UTC:20230928T120000
DTSTAMP:20260421T084042
CREATED:20230905T082038Z
LAST-MODIFIED:20230905T082038Z
UID:648-1695897000-1695902400@www.winchcombedaycentre.co.uk
SUMMARY:Armchair travel to Canada with Gill
DESCRIPTION:
URL:https://www.winchcombedaycentre.co.uk/whats-on/armchair-travel-to-canada-with-gill/
LOCATION:Winchcombe Day Centre\, Langley Road\, Winchcombe\, Gloucestershire\, GL54 5QN\, United Kingdom
CATEGORIES:wdc
END:VEVENT
BEGIN:VEVENT
DTSTART;TZID=UTC:20230927T133000
DTEND;TZID=UTC:20230927T150000
DTSTAMP:20260421T084042
CREATED:20230926T113643Z
LAST-MODIFIED:20230926T113643Z
UID:703-1695821400-1695826800@www.winchcombedaycentre.co.uk
SUMMARY:Music Bingo with Emily
DESCRIPTION:
URL:https://www.winchcombedaycentre.co.uk/whats-on/music-bingo-with-emily/
LOCATION:Winchcombe Day Centre\, Langley Road\, Winchcombe\, Gloucestershire\, GL54 5QN\, United Kingdom
CATEGORIES:wdc
END:VEVENT
BEGIN:VEVENT
DTSTART;TZID=UTC:20230927T133000
DTEND;TZID=UTC:20230927T150000
DTSTAMP:20260421T084042
CREATED:20230905T081943Z
LAST-MODIFIED:20230905T081943Z
UID:646-1695821400-1695826800@www.winchcombedaycentre.co.uk
SUMMARY:Musical Bingo with Emily
DESCRIPTION:
URL:https://www.winchcombedaycentre.co.uk/whats-on/musical-bingo-with-emily/
LOCATION:Winchcombe Day Centre\, Langley Road\, Winchcombe\, Gloucestershire\, GL54 5QN\, United Kingdom
CATEGORIES:wdc
END:VEVENT
BEGIN:VEVENT
DTSTART;TZID=UTC:20230925T103000
DTEND;TZID=UTC:20230925T120000
DTSTAMP:20260421T084042
CREATED:20230905T081855Z
LAST-MODIFIED:20230905T081855Z
UID:644-1695637800-1695643200@www.winchcombedaycentre.co.uk
SUMMARY:Birthday Party Games of Yesterday with Gill
DESCRIPTION:
URL:https://www.winchcombedaycentre.co.uk/whats-on/birthday-party-games-of-yesterday-with-gill/
LOCATION:Winchcombe Day Centre\, Langley Road\, Winchcombe\, Gloucestershire\, GL54 5QN\, United Kingdom
CATEGORIES:wdc
END:VEVENT
BEGIN:VEVENT
DTSTART;TZID=UTC:20230925T103000
DTEND;TZID=UTC:20230925T120000
DTSTAMP:20260421T084042
CREATED:20230905T081807Z
LAST-MODIFIED:20230905T081807Z
UID:642-1695637800-1695643200@www.winchcombedaycentre.co.uk
SUMMARY:Geoff Harvest Talk
DESCRIPTION:
URL:https://www.winchcombedaycentre.co.uk/whats-on/geoff-harvest-talk/
LOCATION:Winchcombe Day Centre\, Langley Road\, Winchcombe\, Gloucestershire\, GL54 5QN\, United Kingdom
CATEGORIES:wdc
END:VEVENT
BEGIN:VEVENT
DTSTART;TZID=UTC:20230921T133000
DTEND;TZID=UTC:20230921T150000
DTSTAMP:20260421T084042
CREATED:20230905T081716Z
LAST-MODIFIED:20230905T081716Z
UID:640-1695303000-1695308400@www.winchcombedaycentre.co.uk
SUMMARY:Music through the 20's to 60's
DESCRIPTION:
URL:https://www.winchcombedaycentre.co.uk/whats-on/music-through-the-20s-to-60s/
LOCATION:Winchcombe Day Centre\, Langley Road\, Winchcombe\, Gloucestershire\, GL54 5QN\, United Kingdom
CATEGORIES:wdc
END:VEVENT
BEGIN:VEVENT
DTSTART;TZID=UTC:20230921T103000
DTEND;TZID=UTC:20230921T120000
DTSTAMP:20260421T084042
CREATED:20230905T081609Z
LAST-MODIFIED:20230905T081609Z
UID:638-1695292200-1695297600@www.winchcombedaycentre.co.uk
SUMMARY:Evergreen Band will be joining us
DESCRIPTION:
URL:https://www.winchcombedaycentre.co.uk/whats-on/evergreen-band-will-be-joining-us/
LOCATION:Winchcombe Day Centre\, Langley Road\, Winchcombe\, Gloucestershire\, GL54 5QN\, United Kingdom
CATEGORIES:wdc
END:VEVENT
BEGIN:VEVENT
DTSTART;TZID=UTC:20230920T133000
DTEND;TZID=UTC:20230920T150000
DTSTAMP:20260421T084042
CREATED:20230926T113549Z
LAST-MODIFIED:20230926T113549Z
UID:701-1695216600-1695222000@www.winchcombedaycentre.co.uk
SUMMARY:Curling with Emily
DESCRIPTION:
URL:https://www.winchcombedaycentre.co.uk/whats-on/curling-with-emily/
LOCATION:Winchcombe Day Centre\, Langley Road\, Winchcombe\, Gloucestershire\, GL54 5QN\, United Kingdom
CATEGORIES:wdc
END:VEVENT
BEGIN:VEVENT
DTSTART;TZID=UTC:20230920T103000
DTEND;TZID=UTC:20230920T120000
DTSTAMP:20260421T084042
CREATED:20230926T113508Z
LAST-MODIFIED:20230926T113508Z
UID:699-1695205800-1695211200@www.winchcombedaycentre.co.uk
SUMMARY:Hedgehog & Squirrel Craft with Sadie
DESCRIPTION:
URL:https://www.winchcombedaycentre.co.uk/whats-on/hedgehog-squirrel-craft-with-sadie/
LOCATION:Winchcombe Day Centre\, Langley Road\, Winchcombe\, Gloucestershire\, GL54 5QN\, United Kingdom
CATEGORIES:wdc
END:VEVENT
BEGIN:VEVENT
DTSTART;TZID=UTC:20230918T133000
DTEND;TZID=UTC:20230918T150000
DTSTAMP:20260421T084042
CREATED:20230905T081522Z
LAST-MODIFIED:20230905T081522Z
UID:636-1695043800-1695049200@www.winchcombedaycentre.co.uk
SUMMARY:Autumn colour focus with music\, movement and games with Emily
DESCRIPTION:
URL:https://www.winchcombedaycentre.co.uk/whats-on/autumn-colour-focus-with-music-movement-and-games-with-emily/
LOCATION:Winchcombe Day Centre\, Langley Road\, Winchcombe\, Gloucestershire\, GL54 5QN\, United Kingdom
CATEGORIES:wdc
END:VEVENT
BEGIN:VEVENT
DTSTART;TZID=UTC:20230914T133000
DTEND;TZID=UTC:20230914T150000
DTSTAMP:20260421T084042
CREATED:20230905T081403Z
LAST-MODIFIED:20230905T081403Z
UID:634-1694698200-1694703600@www.winchcombedaycentre.co.uk
SUMMARY:Snakes & Ladders with Gill
DESCRIPTION:
URL:https://www.winchcombedaycentre.co.uk/whats-on/snakes-ladders-with-gill/
LOCATION:Winchcombe Day Centre\, Langley Road\, Winchcombe\, Gloucestershire\, GL54 5QN\, United Kingdom
CATEGORIES:wdc
END:VEVENT
BEGIN:VEVENT
DTSTART;TZID=UTC:20230913T133000
DTEND;TZID=UTC:20230913T153000
DTSTAMP:20260421T084042
CREATED:20230905T081258Z
LAST-MODIFIED:20230905T081258Z
UID:632-1694611800-1694619000@www.winchcombedaycentre.co.uk
SUMMARY:Flower Mosaics & Flower Beetle with Gill
DESCRIPTION:
URL:https://www.winchcombedaycentre.co.uk/whats-on/flower-mosaics-flower-beetle-with-gill/
LOCATION:Winchcombe Day Centre\, Langley Road\, Winchcombe\, Gloucestershire\, GL54 5QN\, United Kingdom
CATEGORIES:wdc
END:VEVENT
BEGIN:VEVENT
DTSTART;TZID=UTC:20230913T103000
DTEND;TZID=UTC:20230913T120000
DTSTAMP:20260421T084042
CREATED:20230905T081207Z
LAST-MODIFIED:20230905T081207Z
UID:630-1694601000-1694606400@www.winchcombedaycentre.co.uk
SUMMARY:Skittles & Scattergories with Sadie
DESCRIPTION:
URL:https://www.winchcombedaycentre.co.uk/whats-on/skittles-scattergories-with-sadie/
LOCATION:Winchcombe Day Centre\, Langley Road\, Winchcombe\, Gloucestershire\, GL54 5QN\, United Kingdom
CATEGORIES:wdc
END:VEVENT
BEGIN:VEVENT
DTSTART;TZID=UTC:20230911T103000
DTEND;TZID=UTC:20230911T120000
DTSTAMP:20260421T084042
CREATED:20230905T081041Z
LAST-MODIFIED:20230905T081041Z
UID:628-1694428200-1694433600@www.winchcombedaycentre.co.uk
SUMMARY:Beatles Music & Movement with Emily
DESCRIPTION:
URL:https://www.winchcombedaycentre.co.uk/whats-on/beatles-music-movement-with-emily/
LOCATION:Winchcombe Day Centre\, Langley Road\, Winchcombe\, Gloucestershire\, GL54 5QN\, United Kingdom
CATEGORIES:wdc
END:VEVENT
BEGIN:VEVENT
DTSTART;TZID=UTC:20230907T133000
DTEND;TZID=UTC:20230907T150000
DTSTAMP:20260421T084042
CREATED:20230905T083031Z
LAST-MODIFIED:20230905T083031Z
UID:670-1694093400-1694098800@www.winchcombedaycentre.co.uk
SUMMARY:Music Quiz with Sarah
DESCRIPTION:
URL:https://www.winchcombedaycentre.co.uk/whats-on/music-quiz-with-sarah/
LOCATION:Winchcombe Day Centre\, Langley Road\, Winchcombe\, Gloucestershire\, GL54 5QN\, United Kingdom
CATEGORIES:wdc
END:VEVENT
BEGIN:VEVENT
DTSTART;TZID=UTC:20230907T103000
DTEND;TZID=UTC:20230907T120000
DTSTAMP:20260421T084042
CREATED:20230905T082951Z
LAST-MODIFIED:20230905T082951Z
UID:668-1694082600-1694088000@www.winchcombedaycentre.co.uk
SUMMARY:Autumn Craft
DESCRIPTION:
URL:https://www.winchcombedaycentre.co.uk/whats-on/autumn-craft/
LOCATION:Winchcombe Day Centre\, Langley Road\, Winchcombe\, Gloucestershire\, GL54 5QN\, United Kingdom
CATEGORIES:wdc
END:VEVENT
BEGIN:VEVENT
DTSTART;TZID=UTC:20230906T133000
DTEND;TZID=UTC:20230906T150000
DTSTAMP:20260421T084042
CREATED:20230905T082859Z
LAST-MODIFIED:20230905T082859Z
UID:666-1694007000-1694012400@www.winchcombedaycentre.co.uk
SUMMARY:Picture Quiz with Sarah
DESCRIPTION:
URL:https://www.winchcombedaycentre.co.uk/whats-on/picture-quiz-with-sarah/
LOCATION:Winchcombe Day Centre\, Langley Road\, Winchcombe\, Gloucestershire\, GL54 5QN\, United Kingdom
CATEGORIES:wdc
END:VEVENT
BEGIN:VEVENT
DTSTART;TZID=UTC:20230906T103000
DTEND;TZID=UTC:20230906T120000
DTSTAMP:20260421T084042
CREATED:20230905T082812Z
LAST-MODIFIED:20230905T082812Z
UID:664-1693996200-1694001600@www.winchcombedaycentre.co.uk
SUMMARY:Beanbag Challenge with Emily
DESCRIPTION:
URL:https://www.winchcombedaycentre.co.uk/whats-on/beanbag-challenge-with-emily-3/
LOCATION:Winchcombe Day Centre\, Langley Road\, Winchcombe\, Gloucestershire\, GL54 5QN\, United Kingdom
CATEGORIES:wdc
END:VEVENT
BEGIN:VEVENT
DTSTART;TZID=UTC:20230904T133000
DTEND;TZID=UTC:20230904T150000
DTSTAMP:20260421T084042
CREATED:20230905T082725Z
LAST-MODIFIED:20230905T082725Z
UID:662-1693834200-1693839600@www.winchcombedaycentre.co.uk
SUMMARY:Music Quiz
DESCRIPTION:
URL:https://www.winchcombedaycentre.co.uk/whats-on/music-quiz-2/
LOCATION:Winchcombe Day Centre\, Langley Road\, Winchcombe\, Gloucestershire\, GL54 5QN\, United Kingdom
CATEGORIES:wdc
END:VEVENT
BEGIN:VEVENT
DTSTART;TZID=UTC:20230904T103000
DTEND;TZID=UTC:20230904T120000
DTSTAMP:20260421T084042
CREATED:20230905T082648Z
LAST-MODIFIED:20230905T082648Z
UID:660-1693823400-1693828800@www.winchcombedaycentre.co.uk
SUMMARY:Armchair Travel to Sweden with Gill
DESCRIPTION:
URL:https://www.winchcombedaycentre.co.uk/whats-on/armchair-travel-to-sweden-with-gill/
LOCATION:Winchcombe Day Centre\, Langley Road\, Winchcombe\, Gloucestershire\, GL54 5QN\, United Kingdom
CATEGORIES:wdc
END:VEVENT
BEGIN:VEVENT
DTSTART;TZID=UTC:20230831T133000
DTEND;TZID=UTC:20230831T150000
DTSTAMP:20260421T084042
CREATED:20230905T084026Z
LAST-MODIFIED:20230905T084026Z
UID:692-1693488600-1693494000@www.winchcombedaycentre.co.uk
SUMMARY:Memory Bingo
DESCRIPTION:
URL:https://www.winchcombedaycentre.co.uk/whats-on/memory-bingo/
LOCATION:Winchcombe Day Centre\, Langley Road\, Winchcombe\, Gloucestershire\, GL54 5QN\, United Kingdom
CATEGORIES:wdc
END:VEVENT
BEGIN:VEVENT
DTSTART;TZID=UTC:20230831T103000
DTEND;TZID=UTC:20230831T120000
DTSTAMP:20260421T084042
CREATED:20230905T083924Z
LAST-MODIFIED:20230905T083924Z
UID:690-1693477800-1693483200@www.winchcombedaycentre.co.uk
SUMMARY:Golf Challenge with Emily
DESCRIPTION:
URL:https://www.winchcombedaycentre.co.uk/whats-on/golf-challenge-with-emily/
LOCATION:Winchcombe Day Centre\, Langley Road\, Winchcombe\, Gloucestershire\, GL54 5QN\, United Kingdom
CATEGORIES:wdc
END:VEVENT
BEGIN:VEVENT
DTSTART;TZID=UTC:20230830T133000
DTEND;TZID=UTC:20230830T150000
DTSTAMP:20260421T084042
CREATED:20230905T083844Z
LAST-MODIFIED:20230905T083844Z
UID:688-1693402200-1693407600@www.winchcombedaycentre.co.uk
SUMMARY:Lighthouse & Lifeboats with Gill
DESCRIPTION:
URL:https://www.winchcombedaycentre.co.uk/whats-on/lighthouse-lifeboats-with-gill/
LOCATION:Winchcombe Day Centre\, Langley Road\, Winchcombe\, Gloucestershire\, GL54 5QN\, United Kingdom
CATEGORIES:wdc
END:VEVENT
BEGIN:VEVENT
DTSTART;TZID=UTC:20230830T103000
DTEND;TZID=UTC:20230830T120000
DTSTAMP:20260421T084042
CREATED:20230905T083743Z
LAST-MODIFIED:20230905T083743Z
UID:686-1693391400-1693396800@www.winchcombedaycentre.co.uk
SUMMARY:Pub Games
DESCRIPTION:
URL:https://www.winchcombedaycentre.co.uk/whats-on/pub-games/
LOCATION:Winchcombe Day Centre\, Langley Road\, Winchcombe\, Gloucestershire\, GL54 5QN\, United Kingdom
CATEGORIES:wdc
END:VEVENT
BEGIN:VEVENT
DTSTART;TZID=UTC:20230828T103000
DTEND;TZID=UTC:20230828T103000
DTSTAMP:20260421T084042
CREATED:20230530T093211Z
LAST-MODIFIED:20230905T084510Z
UID:462-1693218600-1693218600@www.winchcombedaycentre.co.uk
SUMMARY:Bank Holiday - Centre Closed
DESCRIPTION:
URL:https://www.winchcombedaycentre.co.uk/whats-on/bank-holiday-centre-closed/
LOCATION:Winchcombe Day Centre\, Langley Road\, Winchcombe\, Gloucestershire\, GL54 5QN\, United Kingdom
CATEGORIES:wdc
END:VEVENT
BEGIN:VEVENT
DTSTART;TZID=UTC:20230824T133000
DTEND;TZID=UTC:20230824T150000
DTSTAMP:20260421T084042
CREATED:20230905T083634Z
LAST-MODIFIED:20230905T083634Z
UID:682-1692883800-1692889200@www.winchcombedaycentre.co.uk
SUMMARY:Time Hop Name Game 1900-1950 with Emily
DESCRIPTION:
URL:https://www.winchcombedaycentre.co.uk/whats-on/time-hop-name-game-1900-1950-with-emily/
LOCATION:Winchcombe Day Centre\, Langley Road\, Winchcombe\, Gloucestershire\, GL54 5QN\, United Kingdom
CATEGORIES:wdc
END:VEVENT
BEGIN:VEVENT
DTSTART;TZID=UTC:20230824T103000
DTEND;TZID=UTC:20230824T120000
DTSTAMP:20260421T084042
CREATED:20230905T083537Z
LAST-MODIFIED:20230905T083537Z
UID:680-1692873000-1692878400@www.winchcombedaycentre.co.uk
SUMMARY:Beatle Music & Beetle Drive with Gill
DESCRIPTION:
URL:https://www.winchcombedaycentre.co.uk/whats-on/beatle-music-beetle-drive-with-gill/
LOCATION:Winchcombe Day Centre\, Langley Road\, Winchcombe\, Gloucestershire\, GL54 5QN\, United Kingdom
CATEGORIES:wdc
END:VEVENT
BEGIN:VEVENT
DTSTART;TZID=UTC:20230823T133000
DTEND;TZID=UTC:20230823T150000
DTSTAMP:20260421T084042
CREATED:20230905T083435Z
LAST-MODIFIED:20230905T083435Z
UID:678-1692797400-1692802800@www.winchcombedaycentre.co.uk
SUMMARY:Water colour craft
DESCRIPTION:
URL:https://www.winchcombedaycentre.co.uk/whats-on/water-colour-craft/
LOCATION:Winchcombe Day Centre\, Langley Road\, Winchcombe\, Gloucestershire\, GL54 5QN\, United Kingdom
CATEGORIES:wdc
END:VEVENT
BEGIN:VEVENT
DTSTART;TZID=UTC:20230823T103000
DTEND;TZID=UTC:20230823T120000
DTSTAMP:20260421T084042
CREATED:20230905T083336Z
LAST-MODIFIED:20230905T083336Z
UID:676-1692786600-1692792000@www.winchcombedaycentre.co.uk
SUMMARY:Skittles & Music Questions with Emily
DESCRIPTION:
URL:https://www.winchcombedaycentre.co.uk/whats-on/skittles-music-questions-with-emily/
LOCATION:Winchcombe Day Centre\, Langley Road\, Winchcombe\, Gloucestershire\, GL54 5QN\, United Kingdom
CATEGORIES:wdc
END:VEVENT
END:VCALENDAR